BEGIN:VCALENDAR
VERSION:2.0
PRODID:-//Campo de Golf Montepríncipe - ECPv6.15.11//NONSGML v1.0//EN
CALSCALE:GREGORIAN
METHOD:PUBLISH
X-WR-CALNAME:Campo de Golf Montepríncipe
X-ORIGINAL-URL:https://golfmonteprincipe.com
X-WR-CALDESC:Eventos para Campo de Golf Montepríncipe
REFRESH-INTERVAL;VALUE=DURATION:PT1H
X-Robots-Tag:noindex
X-PUBLISHED-TTL:PT1H
BEGIN:VTIMEZONE
TZID:Europe/Madrid
BEGIN:DAYLIGHT
TZOFFSETFROM:+0100
TZOFFSETTO:+0200
TZNAME:CEST
DTSTART:20240331T010000
END:DAYLIGHT
BEGIN:STANDARD
TZOFFSETFROM:+0200
TZOFFSETTO:+0100
TZNAME:CET
DTSTART:20241027T010000
END:STANDARD
BEGIN:DAYLIGHT
TZOFFSETFROM:+0100
TZOFFSETTO:+0200
TZNAME:CEST
DTSTART:20250330T010000
END:DAYLIGHT
BEGIN:STANDARD
TZOFFSETFROM:+0200
TZOFFSETTO:+0100
TZNAME:CET
DTSTART:20251026T010000
END:STANDARD
BEGIN:DAYLIGHT
TZOFFSETFROM:+0100
TZOFFSETTO:+0200
TZNAME:CEST
DTSTART:20260329T010000
END:DAYLIGHT
BEGIN:STANDARD
TZOFFSETFROM:+0200
TZOFFSETTO:+0100
TZNAME:CET
DTSTART:20261025T010000
END:STANDARD
END:VTIMEZONE
BEGIN:VEVENT
DTSTART;TZID=Europe/Madrid:20251025T090000
DTEND;TZID=Europe/Madrid:20251025T140000
DTSTAMP:20260426T005814
CREATED:20251009T071913Z
LAST-MODIFIED:20251009T071913Z
UID:24808-1761382800-1761400800@golfmonteprincipe.com
SUMMARY:TORNEO HALLOWEN
DESCRIPTION:
URL:https://golfmonteprincipe.com/competicion/torneo-hallowen/
LOCATION:MontePríncipe Escuela de Golf – Pitch & Putt\, Urb. Montepríncipe\, Av. de los Poetas\, s/n\, Murcia\, Molina de Segura\, 30506\, Spain
ORGANIZER;CN="Escuela de Golf MontePr%C3%ADncipe":MAILTO:info@golfmonteprincipe.com
END:VEVENT
END:VCALENDAR