BEGIN:VCALENDAR
VERSION:2.0
PRODID:-//Campo de Golf Montepríncipe - ECPv6.15.11//NONSGML v1.0//EN
CALSCALE:GREGORIAN
METHOD:PUBLISH
X-WR-CALNAME:Campo de Golf Montepríncipe
X-ORIGINAL-URL:https://golfmonteprincipe.com
X-WR-CALDESC:Eventos para Campo de Golf Montepríncipe
REFRESH-INTERVAL;VALUE=DURATION:PT1H
X-Robots-Tag:noindex
X-PUBLISHED-TTL:PT1H
BEGIN:VTIMEZONE
TZID:Europe/Madrid
BEGIN:DAYLIGHT
TZOFFSETFROM:+0100
TZOFFSETTO:+0200
TZNAME:CEST
DTSTART:20240331T010000
END:DAYLIGHT
BEGIN:STANDARD
TZOFFSETFROM:+0200
TZOFFSETTO:+0100
TZNAME:CET
DTSTART:20241027T010000
END:STANDARD
BEGIN:DAYLIGHT
TZOFFSETFROM:+0100
TZOFFSETTO:+0200
TZNAME:CEST
DTSTART:20250330T010000
END:DAYLIGHT
BEGIN:STANDARD
TZOFFSETFROM:+0200
TZOFFSETTO:+0100
TZNAME:CET
DTSTART:20251026T010000
END:STANDARD
BEGIN:DAYLIGHT
TZOFFSETFROM:+0100
TZOFFSETTO:+0200
TZNAME:CEST
DTSTART:20260329T010000
END:DAYLIGHT
BEGIN:STANDARD
TZOFFSETFROM:+0200
TZOFFSETTO:+0100
TZNAME:CET
DTSTART:20261025T010000
END:STANDARD
END:VTIMEZONE
BEGIN:VEVENT
DTSTART;VALUE=DATE:20251109
DTEND;VALUE=DATE:20251110
DTSTAMP:20260425T155252
CREATED:20251030T082022Z
LAST-MODIFIED:20251030T082157Z
UID:24947-1762646400-1762732799@golfmonteprincipe.com
SUMMARY:ABSOLUTO P&P 2025
DESCRIPTION:
URL:https://golfmonteprincipe.com/competicion/absoluto-pp-2025/
LOCATION:MontePríncipe Escuela de Golf – Pitch & Putt\, Urb. Montepríncipe\, Av. de los Poetas\, s/n\, Murcia\, Molina de Segura\, 30506\, Spain
ORGANIZER;CN="Federaci%C3%B3n de Golf de la Regi%C3%B3n de Murcia":MAILTO:info@fgolfmurcia.com
END:VEVENT
END:VCALENDAR