BEGIN:VCALENDAR
VERSION:2.0
PRODID:-//Campo de Golf Montepríncipe - ECPv6.15.11//NONSGML v1.0//EN
CALSCALE:GREGORIAN
METHOD:PUBLISH
X-WR-CALNAME:Campo de Golf Montepríncipe
X-ORIGINAL-URL:https://golfmonteprincipe.com
X-WR-CALDESC:Eventos para Campo de Golf Montepríncipe
REFRESH-INTERVAL;VALUE=DURATION:PT1H
X-Robots-Tag:noindex
X-PUBLISHED-TTL:PT1H
BEGIN:VTIMEZONE
TZID:Europe/Madrid
BEGIN:DAYLIGHT
TZOFFSETFROM:+0100
TZOFFSETTO:+0200
TZNAME:CEST
DTSTART:20240331T010000
END:DAYLIGHT
BEGIN:STANDARD
TZOFFSETFROM:+0200
TZOFFSETTO:+0100
TZNAME:CET
DTSTART:20241027T010000
END:STANDARD
BEGIN:DAYLIGHT
TZOFFSETFROM:+0100
TZOFFSETTO:+0200
TZNAME:CEST
DTSTART:20250330T010000
END:DAYLIGHT
BEGIN:STANDARD
TZOFFSETFROM:+0200
TZOFFSETTO:+0100
TZNAME:CET
DTSTART:20251026T010000
END:STANDARD
BEGIN:DAYLIGHT
TZOFFSETFROM:+0100
TZOFFSETTO:+0200
TZNAME:CEST
DTSTART:20260329T010000
END:DAYLIGHT
BEGIN:STANDARD
TZOFFSETFROM:+0200
TZOFFSETTO:+0100
TZNAME:CET
DTSTART:20261025T010000
END:STANDARD
END:VTIMEZONE
BEGIN:VEVENT
DTSTART;TZID=Europe/Madrid:20251220T090000
DTEND;TZID=Europe/Madrid:20251220T110000
DTSTAMP:20260425T123026
CREATED:20251120T094802Z
LAST-MODIFIED:20251120T094802Z
UID:25002-1766221200-1766228400@golfmonteprincipe.com
SUMMARY:II TORNEO CURSOS DE INICIACIÓN
DESCRIPTION:II TORNEO CURSOS DE INICIACIÓN\nhorario:09:00
URL:https://golfmonteprincipe.com/competicion/ii-torneo-cursos-de-iniciacion/
ATTACH;FMTTYPE=image/jpeg:https://golfmonteprincipe.com/wp-content/uploads/2025/11/torneo-iniciacion-monteprincipe.jpg
END:VEVENT
BEGIN:VEVENT
DTSTART;TZID=Europe/Madrid:20251220T113000
DTEND;TZID=Europe/Madrid:20251220T140000
DTSTAMP:20260425T123026
CREATED:20251120T095018Z
LAST-MODIFIED:20251120T095246Z
UID:25005-1766230200-1766239200@golfmonteprincipe.com
SUMMARY:II TORNEO CURSOS INICIACIÓN
DESCRIPTION:II TORNEO CURSOS INICIACIÓN
URL:https://golfmonteprincipe.com/competicion/ii-torneo-cursos-iniciacion/
ATTACH;FMTTYPE=image/jpeg:https://golfmonteprincipe.com/wp-content/uploads/2025/11/torneo-iniciacion-monteprincipe.jpg
END:VEVENT
END:VCALENDAR