BEGIN:VCALENDAR
VERSION:2.0
PRODID:-//Campo de Golf Montepríncipe - ECPv6.15.11//NONSGML v1.0//EN
CALSCALE:GREGORIAN
METHOD:PUBLISH
X-WR-CALNAME:Campo de Golf Montepríncipe
X-ORIGINAL-URL:https://golfmonteprincipe.com
X-WR-CALDESC:Eventos para Campo de Golf Montepríncipe
REFRESH-INTERVAL;VALUE=DURATION:PT1H
X-Robots-Tag:noindex
X-PUBLISHED-TTL:PT1H
BEGIN:VTIMEZONE
TZID:Europe/Madrid
BEGIN:DAYLIGHT
TZOFFSETFROM:+0100
TZOFFSETTO:+0200
TZNAME:CEST
DTSTART:20250330T010000
END:DAYLIGHT
BEGIN:STANDARD
TZOFFSETFROM:+0200
TZOFFSETTO:+0100
TZNAME:CET
DTSTART:20251026T010000
END:STANDARD
BEGIN:DAYLIGHT
TZOFFSETFROM:+0100
TZOFFSETTO:+0200
TZNAME:CEST
DTSTART:20260329T010000
END:DAYLIGHT
BEGIN:STANDARD
TZOFFSETFROM:+0200
TZOFFSETTO:+0100
TZNAME:CET
DTSTART:20261025T010000
END:STANDARD
BEGIN:DAYLIGHT
TZOFFSETFROM:+0100
TZOFFSETTO:+0200
TZNAME:CEST
DTSTART:20270328T010000
END:DAYLIGHT
BEGIN:STANDARD
TZOFFSETFROM:+0200
TZOFFSETTO:+0100
TZNAME:CET
DTSTART:20271031T010000
END:STANDARD
END:VTIMEZONE
BEGIN:VEVENT
DTSTART;VALUE=DATE:20260411
DTEND;VALUE=DATE:20260412
DTSTAMP:20260423T132916
CREATED:20260406T070250Z
LAST-MODIFIED:20260406T070250Z
UID:25238-1775865600-1775951999@golfmonteprincipe.com
SUMMARY:TORNEO FIESTAS DE PRIMAVERA
DESCRIPTION:🌸⛳ ¡Llega uno de los torneos más especiales de la temporada! ⛳🌸 \nCelebra la primavera con nosotros en el Torneo Fiestas de Primavera en el campo de Montepríncipe 🌿🌼 \n📅 Sábado 11 de abril\n⏰ 09:00 h\n🏌️ Modalidad: Stableford individual \nCategorías para todos los niveles:\n* Scratch\n* 1ª categoría\n* 2ª categoría\n* Damas\n* Juvenil \n💰 Precio:\n* Adultos: 21€\n* Juvenil: 10\,50€ \nDisfruta de un día de golf rodeado de naturaleza\, buen ambiente y mucha competición 🌞🏌️‍♂️ \n📲 ¡Plazas limitadas! Inscríbete ya y no te quedes fuera \n  \n 
URL:https://golfmonteprincipe.com/competicion/torneo-fiestas-de-primavera-2/
END:VEVENT
END:VCALENDAR