BEGIN:VCALENDAR
VERSION:2.0
PRODID:-//Campo de Golf Montepríncipe - ECPv6.15.11//NONSGML v1.0//EN
CALSCALE:GREGORIAN
METHOD:PUBLISH
X-WR-CALNAME:Campo de Golf Montepríncipe
X-ORIGINAL-URL:https://golfmonteprincipe.com
X-WR-CALDESC:Eventos para Campo de Golf Montepríncipe
REFRESH-INTERVAL;VALUE=DURATION:PT1H
X-Robots-Tag:noindex
X-PUBLISHED-TTL:PT1H
BEGIN:VTIMEZONE
TZID:Europe/Madrid
BEGIN:DAYLIGHT
TZOFFSETFROM:+0100
TZOFFSETTO:+0200
TZNAME:CEST
DTSTART:20250330T010000
END:DAYLIGHT
BEGIN:STANDARD
TZOFFSETFROM:+0200
TZOFFSETTO:+0100
TZNAME:CET
DTSTART:20251026T010000
END:STANDARD
BEGIN:DAYLIGHT
TZOFFSETFROM:+0100
TZOFFSETTO:+0200
TZNAME:CEST
DTSTART:20260329T010000
END:DAYLIGHT
BEGIN:STANDARD
TZOFFSETFROM:+0200
TZOFFSETTO:+0100
TZNAME:CET
DTSTART:20261025T010000
END:STANDARD
BEGIN:DAYLIGHT
TZOFFSETFROM:+0100
TZOFFSETTO:+0200
TZNAME:CEST
DTSTART:20270328T010000
END:DAYLIGHT
BEGIN:STANDARD
TZOFFSETFROM:+0200
TZOFFSETTO:+0100
TZNAME:CET
DTSTART:20271031T010000
END:STANDARD
END:VTIMEZONE
BEGIN:VEVENT
DTSTART;TZID=Europe/Madrid:20260321T090000
DTEND;TZID=Europe/Madrid:20260321T143000
DTSTAMP:20260423T130713
CREATED:20260310T104942Z
LAST-MODIFIED:20260310T105314Z
UID:25160-1774083600-1774103400@golfmonteprincipe.com
SUMMARY:TORNEO DIA DEL PADRE
DESCRIPTION:👨‍👧‍👦⛳ Torneo Día del Padre en E.G. Montepríncipe \nCelebra el Día del Padre de la mejor manera: ¡jugando al golf en familia! \nEl próximo 21 de marzo a las 9:00 te esperamos en E.G. Montepríncipe para disfrutar de una jornada especial llena de deporte\, buen ambiente y momentos inolvidables. \n🏌️ Modalidad: Stableford Individual\n🏆 Categorías:\n* 1ª Categoría\n* 2ª Categoría\n* Damas\n* Juvenil \n🕘 Salida: 9:00\n⏰ Segundo tiro: 11:30 \n💰 Precio inscripción:\n* Adultos: 21€\n* Juvenil: 10\,50€ \nUn torneo pensado para disfrutar del golf y celebrar el Día del Padre en un entorno único. ¡No te lo pierdas!
URL:https://golfmonteprincipe.com/competicion/torneo-dia-del-padre-2/
END:VEVENT
END:VCALENDAR