BEGIN:VCALENDAR
VERSION:2.0
PRODID:-//Campo de Golf Montepríncipe - ECPv6.15.11//NONSGML v1.0//EN
CALSCALE:GREGORIAN
METHOD:PUBLISH
X-WR-CALNAME:Campo de Golf Montepríncipe
X-ORIGINAL-URL:https://golfmonteprincipe.com
X-WR-CALDESC:Eventos para Campo de Golf Montepríncipe
REFRESH-INTERVAL;VALUE=DURATION:PT1H
X-Robots-Tag:noindex
X-PUBLISHED-TTL:PT1H
BEGIN:VTIMEZONE
TZID:Europe/Madrid
BEGIN:DAYLIGHT
TZOFFSETFROM:+0100
TZOFFSETTO:+0200
TZNAME:CEST
DTSTART:20250330T010000
END:DAYLIGHT
BEGIN:STANDARD
TZOFFSETFROM:+0200
TZOFFSETTO:+0100
TZNAME:CET
DTSTART:20251026T010000
END:STANDARD
BEGIN:DAYLIGHT
TZOFFSETFROM:+0100
TZOFFSETTO:+0200
TZNAME:CEST
DTSTART:20260329T010000
END:DAYLIGHT
BEGIN:STANDARD
TZOFFSETFROM:+0200
TZOFFSETTO:+0100
TZNAME:CET
DTSTART:20261025T010000
END:STANDARD
BEGIN:DAYLIGHT
TZOFFSETFROM:+0100
TZOFFSETTO:+0200
TZNAME:CEST
DTSTART:20270328T010000
END:DAYLIGHT
BEGIN:STANDARD
TZOFFSETFROM:+0200
TZOFFSETTO:+0100
TZNAME:CET
DTSTART:20271031T010000
END:STANDARD
END:VTIMEZONE
BEGIN:VEVENT
DTSTART;TZID=Europe/Madrid:20260508T160000
DTEND;TZID=Europe/Madrid:20260508T203000
DTSTAMP:20260423T131753
CREATED:20260406T072506Z
LAST-MODIFIED:20260406T072506Z
UID:25249-1778256000-1778272200@golfmonteprincipe.com
SUMMARY:¡Curso de iniciación al golf por solo 30€!
DESCRIPTION:Durante abril y mayo\, en MontePríncipe Escuela de Golf puedes empezar desde cero con: \n✔️ 2 clases de 2 horas\n✔️ Introducción al golf\n✔️ Reglas y etiqueta\n✔️ Juego básico \n👉 No necesitas experiencia previa\, si ya juegas al golf\, invita a los tuyos! \n📩 Más info o reservas:\n636 21 88 09 / 968 28 48 32 \n¡Plazas limitadas! 😊
URL:https://golfmonteprincipe.com/competicion/curso-de-iniciacion-al-golf-por-solo-30e-4/
END:VEVENT
BEGIN:VEVENT
DTSTART;TZID=Europe/Madrid:20260509T090000
DTEND;TZID=Europe/Madrid:20260509T133000
DTSTAMP:20260423T131753
CREATED:20260406T072624Z
LAST-MODIFIED:20260406T072624Z
UID:25251-1778317200-1778333400@golfmonteprincipe.com
SUMMARY:¡Curso de iniciación al golf por solo 30€!
DESCRIPTION:Durante abril y mayo\, en MontePríncipe Escuela de Golf puedes empezar desde cero con: \n✔️ 2 clases de 2 horas\n✔️ Introducción al golf\n✔️ Reglas y etiqueta\n✔️ Juego básico \n👉 No necesitas experiencia previa\, si ya juegas al golf\, invita a los tuyos! \n📩 Más info o reservas:\n636 21 88 09 / 968 28 48 32 \n¡Plazas limitadas! 😊
URL:https://golfmonteprincipe.com/competicion/curso-de-iniciacion-al-golf-por-solo-30e-5/
END:VEVENT
BEGIN:VEVENT
DTSTART;TZID=Europe/Madrid:20260510T090000
DTEND;TZID=Europe/Madrid:20260510T133000
DTSTAMP:20260423T131753
CREATED:20260406T072759Z
LAST-MODIFIED:20260406T072943Z
UID:25254-1778403600-1778419800@golfmonteprincipe.com
SUMMARY:¡Curso de iniciación al golf por solo 30€!
DESCRIPTION:Durante abril y mayo\, en MontePríncipe Escuela de Golf puedes empezar desde cero con: \n✔️ 2 clases de 2 horas\n✔️ Introducción al golf\n✔️ Reglas y etiqueta\n✔️ Juego básico \n👉 No necesitas experiencia previa\, si ya juegas al golf\, invita a los tuyos! \n📩 Más info o reservas:\n636 21 88 09 / 968 28 48 32 \n¡Plazas limitadas! 😊
URL:https://golfmonteprincipe.com/competicion/curso-de-iniciacion-al-golf-por-solo-30e-6/
END:VEVENT
END:VCALENDAR